BEGIN:VCALENDAR
VERSION:2.0
PRODID:-//Bubwith Leisure and Sports Centre - ECPv6.15.20//NONSGML v1.0//EN
CALSCALE:GREGORIAN
METHOD:PUBLISH
X-ORIGINAL-URL:https://www.bubwithleisureandsportscentre.org
X-WR-CALDESC:Events for Bubwith Leisure and Sports Centre
REFRESH-INTERVAL;VALUE=DURATION:PT1H
X-Robots-Tag:noindex
X-PUBLISHED-TTL:PT1H
BEGIN:VTIMEZONE
TZID:Europe/London
BEGIN:DAYLIGHT
TZOFFSETFROM:+0000
TZOFFSETTO:+0100
TZNAME:BST
DTSTART:20220327T010000
END:DAYLIGHT
BEGIN:STANDARD
TZOFFSETFROM:+0100
TZOFFSETTO:+0000
TZNAME:GMT
DTSTART:20221030T010000
END:STANDARD
BEGIN:DAYLIGHT
TZOFFSETFROM:+0000
TZOFFSETTO:+0100
TZNAME:BST
DTSTART:20230326T010000
END:DAYLIGHT
BEGIN:STANDARD
TZOFFSETFROM:+0100
TZOFFSETTO:+0000
TZNAME:GMT
DTSTART:20231029T010000
END:STANDARD
BEGIN:DAYLIGHT
TZOFFSETFROM:+0000
TZOFFSETTO:+0100
TZNAME:BST
DTSTART:20240331T010000
END:DAYLIGHT
BEGIN:STANDARD
TZOFFSETFROM:+0100
TZOFFSETTO:+0000
TZNAME:GMT
DTSTART:20241027T010000
END:STANDARD
BEGIN:DAYLIGHT
TZOFFSETFROM:+0000
TZOFFSETTO:+0100
TZNAME:BST
DTSTART:20250330T010000
END:DAYLIGHT
BEGIN:STANDARD
TZOFFSETFROM:+0100
TZOFFSETTO:+0000
TZNAME:GMT
DTSTART:20251026T010000
END:STANDARD
BEGIN:DAYLIGHT
TZOFFSETFROM:+0000
TZOFFSETTO:+0100
TZNAME:BST
DTSTART:20260329T010000
END:DAYLIGHT
BEGIN:STANDARD
TZOFFSETFROM:+0100
TZOFFSETTO:+0000
TZNAME:GMT
DTSTART:20261025T010000
END:STANDARD
END:VTIMEZONE
BEGIN:VEVENT
DTSTART;TZID=Europe/London:20250129T090000
DTEND;TZID=Europe/London:20250129T123000
DTSTAMP:20260420T121709
CREATED:20250108T102930Z
LAST-MODIFIED:20250108T102930Z
UID:10014840-1738141200-1738153800@www.bubwithleisureandsportscentre.org
SUMMARY:Church Cafe
DESCRIPTION:
URL:https://www.bubwithleisureandsportscentre.org/event/church-cafe/2025-01-29
LOCATION:Bar Lounge and Kitchen\, United Kingdom
END:VEVENT
BEGIN:VEVENT
DTSTART;TZID=Europe/London:20250122T090000
DTEND;TZID=Europe/London:20250122T123000
DTSTAMP:20260420T121709
CREATED:20250108T102930Z
LAST-MODIFIED:20250108T102930Z
UID:10014839-1737536400-1737549000@www.bubwithleisureandsportscentre.org
SUMMARY:Church Cafe
DESCRIPTION:
URL:https://www.bubwithleisureandsportscentre.org/event/church-cafe/2025-01-22
LOCATION:Bar Lounge and Kitchen\, United Kingdom
END:VEVENT
BEGIN:VEVENT
DTSTART;TZID=Europe/London:20250115T090000
DTEND;TZID=Europe/London:20250115T123000
DTSTAMP:20260420T121709
CREATED:20250108T102930Z
LAST-MODIFIED:20250108T102930Z
UID:10014838-1736931600-1736944200@www.bubwithleisureandsportscentre.org
SUMMARY:Church Cafe
DESCRIPTION:
URL:https://www.bubwithleisureandsportscentre.org/event/church-cafe/2025-01-15
LOCATION:Bar Lounge and Kitchen\, United Kingdom
END:VEVENT
BEGIN:VEVENT
DTSTART;TZID=Europe/London:20250108T090000
DTEND;TZID=Europe/London:20250108T123000
DTSTAMP:20260420T121709
CREATED:20250108T102930Z
LAST-MODIFIED:20250108T102930Z
UID:10014837-1736326800-1736339400@www.bubwithleisureandsportscentre.org
SUMMARY:Church Cafe
DESCRIPTION:
URL:https://www.bubwithleisureandsportscentre.org/event/church-cafe/2025-01-08
LOCATION:Bar Lounge and Kitchen\, United Kingdom
END:VEVENT
BEGIN:VEVENT
DTSTART;TZID=Europe/London:20240201T190000
DTEND;TZID=Europe/London:20240201T210000
DTSTAMP:20260420T121709
CREATED:20230917T065109Z
LAST-MODIFIED:20231002T190626Z
UID:10005959-1706814000-1706821200@www.bubwithleisureandsportscentre.org
SUMMARY:Trustees Monthly Committee Meeting
DESCRIPTION:
URL:https://www.bubwithleisureandsportscentre.org/event/trustees-monthly-committee-meeting-2022-05-05-2022-10-06-2-2-2-2/2024-02-01
LOCATION:Bar Lounge and Kitchen\, United Kingdom
ATTACH;FMTTYPE=image/png:https://www.bubwithleisureandsportscentre.org/wp-content/uploads/2019/09/family-blsc.png
END:VEVENT
BEGIN:VEVENT
DTSTART;TZID=Europe/London:20240114T100000
DTEND;TZID=Europe/London:20240114T110000
DTSTAMP:20260420T121709
CREATED:20231211T101553Z
LAST-MODIFIED:20231211T101553Z
UID:10011060-1705226400-1705230000@www.bubwithleisureandsportscentre.org
SUMMARY:Bubwith Art Movement Meeting
DESCRIPTION:
URL:https://www.bubwithleisureandsportscentre.org/event/bubwith-art-movement-meeting-2
LOCATION:Bar Lounge and Kitchen\, United Kingdom
END:VEVENT
BEGIN:VEVENT
DTSTART;TZID=Europe/London:20240104T190000
DTEND;TZID=Europe/London:20240104T210000
DTSTAMP:20260420T121709
CREATED:20230917T065109Z
LAST-MODIFIED:20231002T190626Z
UID:10005958-1704394800-1704402000@www.bubwithleisureandsportscentre.org
SUMMARY:Trustees Monthly Committee Meeting
DESCRIPTION:
URL:https://www.bubwithleisureandsportscentre.org/event/trustees-monthly-committee-meeting-2022-05-05-2022-10-06-2-2-2-2/2024-01-04
LOCATION:Bar Lounge and Kitchen\, United Kingdom
ATTACH;FMTTYPE=image/png:https://www.bubwithleisureandsportscentre.org/wp-content/uploads/2019/09/family-blsc.png
END:VEVENT
BEGIN:VEVENT
DTSTART;TZID=Europe/London:20231207T190000
DTEND;TZID=Europe/London:20231207T210000
DTSTAMP:20260420T121709
CREATED:20230917T065109Z
LAST-MODIFIED:20231002T190626Z
UID:10005957-1701975600-1701982800@www.bubwithleisureandsportscentre.org
SUMMARY:Trustees Monthly Committee Meeting
DESCRIPTION:
URL:https://www.bubwithleisureandsportscentre.org/event/trustees-monthly-committee-meeting-2022-05-05-2022-10-06-2-2-2-2/2023-12-07
LOCATION:Bar Lounge and Kitchen\, United Kingdom
ATTACH;FMTTYPE=image/png:https://www.bubwithleisureandsportscentre.org/wp-content/uploads/2019/09/family-blsc.png
END:VEVENT
BEGIN:VEVENT
DTSTART;TZID=Europe/London:20231102T190000
DTEND;TZID=Europe/London:20231102T210000
DTSTAMP:20260420T121709
CREATED:20230917T065109Z
LAST-MODIFIED:20231002T190626Z
UID:10005956-1698951600-1698958800@www.bubwithleisureandsportscentre.org
SUMMARY:Trustees Monthly Committee Meeting
DESCRIPTION:
URL:https://www.bubwithleisureandsportscentre.org/event/trustees-monthly-committee-meeting-2022-05-05-2022-10-06-2-2-2-2/2023-11-02
LOCATION:Bar Lounge and Kitchen\, United Kingdom
ATTACH;FMTTYPE=image/png:https://www.bubwithleisureandsportscentre.org/wp-content/uploads/2019/09/family-blsc.png
END:VEVENT
BEGIN:VEVENT
DTSTART;TZID=Europe/London:20231005T190000
DTEND;TZID=Europe/London:20231005T210000
DTSTAMP:20260420T121709
CREATED:20230917T065109Z
LAST-MODIFIED:20231002T190626Z
UID:10005955-1696532400-1696539600@www.bubwithleisureandsportscentre.org
SUMMARY:Trustees Monthly Committee Meeting
DESCRIPTION:
URL:https://www.bubwithleisureandsportscentre.org/event/trustees-monthly-committee-meeting-2022-05-05-2022-10-06-2-2-2-2/2023-10-05
LOCATION:Bar Lounge and Kitchen\, United Kingdom
ATTACH;FMTTYPE=image/png:https://www.bubwithleisureandsportscentre.org/wp-content/uploads/2019/09/family-blsc.png
END:VEVENT
END:VCALENDAR